BEGIN:VCALENDAR
VERSION:2.0
PRODID:-//Tryout Radar//Tryout Calendar//EN
BEGIN:VEVENT
DTSTART:20261101T180000
DTEND:20261101T200000
SUMMARY:Unknown Team  Tryout
LOCATION:TBD
DESCRIPTION:  tryout\nFree
URL:https://youth-sports-platform-neon.vercel.app/tryouts/d349359a-f22c-4467-8e4f-cd42bfa629cf
END:VEVENT
END:VCALENDAR