BEGIN:VCALENDAR
VERSION:2.0
PRODID:-//Tryout Radar//Tryout Calendar//EN
BEGIN:VEVENT
DTSTART:20260615T180000
DTEND:20260615T200000
SUMMARY:Coppell Association 6U Tryout
LOCATION:Coppell, TX
DESCRIPTION:6U Select tryout\nFree
URL:https://youth-sports-platform-neon.vercel.app/tryouts/167ea834-052d-4d6d-8e4b-51945715e7a5
END:VEVENT
END:VCALENDAR